BEGIN:VCALENDAR
VERSION:2.0
PRODID:-//Telerik Inc.//NONSGML RadScheduler//EN
METHOD:PUBLISH
BEGIN:VEVENT
DTSTART:20230826T140000Z
DTEND:20230826T150000Z
UID:20231030T194254Z-
DTSTAMP:20231030T194254Z
LOCATION:105 N Balfour Rd Spokane Valley WA 99206
SUMMARY:Popsicles in the Park - Balfour Park
DESCRIPTION:Free family fun while you visit with CVSD School Board Candidates. Fun activities for the kids and popsicles to keep you cool.
END:VEVENT
END:VCALENDAR
