BEGIN:VCALENDAR
VERSION:2.0
PRODID:-//Telerik Inc.//NONSGML RadScheduler//EN
METHOD:PUBLISH
BEGIN:VEVENT
DTSTART:20230811T230000Z
DTEND:20230812T000000Z
UID:20231030T194254Z-
DTSTAMP:20231030T194254Z
LOCATION:20298 E. Indiana Ave Liberty Lake WA 99019
SUMMARY:Popsicles in the Park - Orchard Park
DESCRIPTION:Free family fun while you visit with CVSD School Board Candidates. Fun activities for the kids and popsicles to keep you cool.
END:VEVENT
END:VCALENDAR
