BEGIN:VCALENDAR
VERSION:2.0
PRODID:-//Telerik Inc.//NONSGML RadScheduler//EN
METHOD:PUBLISH
BEGIN:VEVENT
DTSTART:20230414T223000Z
DTEND:20230414T233000Z
UID:20231030T194324Z-
DTSTAMP:20231030T194324Z
LOCATION:2401 S. Sumner Ln GREENACRES WA 99016
SUMMARY:Volunteer Meet and Greet
DESCRIPTION:Add your event description here
END:VEVENT
END:VCALENDAR
