BEGIN:VCALENDAR
VERSION:2.0
PRODID:-//Telerik Inc.//NONSGML RadScheduler//EN
METHOD:PUBLISH
BEGIN:VEVENT
DTSTART:20230721T230000Z
DTEND:20230722T000000Z
UID:20231030T194306Z-
DTSTAMP:20231030T194306Z
LOCATION:24901 E Mission Ave Liberty Lake WA 99019
SUMMARY:Popsicles in the Park - Rocky Hill Park
DESCRIPTION:Free family fun while you visit with CVSD School Board Candidates. Fun activities for the kids and popsicles to keep you cool.
END:VEVENT
END:VCALENDAR
