BEGIN:VCALENDAR
VERSION:2.0
PRODID:-//Telerik Inc.//NONSGML RadScheduler//EN
METHOD:PUBLISH
BEGIN:VEVENT
DTSTART:20230819T180000Z
DTEND:20230819T190000Z
UID:20231030T194253Z-
DTSTAMP:20231030T194253Z
LOCATION:13525 E 24th Ave Spokane Valley WA 99216
SUMMARY:Popsicles in the Park - Terrace View Park
DESCRIPTION:Free family fun while you visit with CVSD School Board Candidates. Fun activities for the kids and popsicles to keep you cool.
END:VEVENT
END:VCALENDAR
