BEGIN:VCALENDAR
VERSION:2.0
PRODID:-//Telerik Inc.//NONSGML RadScheduler//EN
METHOD:PUBLISH
BEGIN:VEVENT
DTSTART:20230722T180000Z
DTEND:20230722T190000Z
UID:20231030T194305Z-
DTSTAMP:20231030T194305Z
LOCATION:   
SUMMARY:Popsicles in the Park - Morningside Park
DESCRIPTION:Free family fun while you visit with CVSD School Board Candidates. Fun activities for the kids and popsicles to keep you cool.
END:VEVENT
END:VCALENDAR
