BEGIN:VCALENDAR
VERSION:2.0
PRODID:-//Telerik Inc.//NONSGML RadScheduler//EN
METHOD:PUBLISH
BEGIN:VEVENT
DTSTART:20230923T140000Z
DTEND:20230923T220000Z
UID:20231030T194205Z-
DTSTAMP:20231030T194205Z
LOCATION:Mirabeau Park   
SUMMARY:Valley Fest 2023
DESCRIPTION:
END:VEVENT
END:VCALENDAR
