BEGIN:VCALENDAR
VERSION:2.0
PRODID:-//Telerik Inc.//NONSGML RadScheduler//EN
METHOD:PUBLISH
BEGIN:VEVENT
DTSTART:20231013T210000Z
DTEND:20231014T000000Z
UID:20231030T193706Z-
DTSTAMP:20231030T193706Z
LOCATION:15618 E Broadway Ave Spokane Valley WA 99037
SUMMARY:2023 Central Valley School Board Candidate Forum
DESCRIPTION:Come and meet candidates and learn more about them as they run for Central Valley School Board . All are welcome, no registration necessary.&nbsp;\n
END:VEVENT
END:VCALENDAR
