BEGIN:VCALENDAR
VERSION:2.0
PRODID:-//Telerik Inc.//NONSGML RadScheduler//EN
METHOD:PUBLISH
BEGIN:VEVENT
DTSTART:20230826T180000Z
DTEND:20230826T190000Z
UID:20231030T194252Z-
DTSTAMP:20231030T194252Z
LOCATION:727 N Molter Rd Liberty Lake WA 99019
SUMMARY:Popsicles in the Park - Pavillion Park
DESCRIPTION:Free family fun while you visit with CVSD School Board Candidates. Fun activities for the kids and popsicles to keep you cool.
END:VEVENT
END:VCALENDAR
