BEGIN:VCALENDAR
VERSION:2.0
PRODID:-//Telerik Inc.//NONSGML RadScheduler//EN
METHOD:PUBLISH
BEGIN:VEVENT
DTSTART:20230819T230000Z
DTEND:20230820T000000Z
UID:20231030T194253Z-
DTSTAMP:20231030T194253Z
LOCATION:3415 S University Rd Spokane Valley WA 99206
SUMMARY:Popsicles in the Park - CastlePark
DESCRIPTION:Free family fun while you visit with CVSD School Board Candidates. Fun activities for the kids and popsicles to keep you cool.
END:VEVENT
END:VCALENDAR
