BEGIN:VCALENDAR
VERSION:2.0
PRODID:-//Telerik Inc.//NONSGML RadScheduler//EN
METHOD:PUBLISH
BEGIN:VEVENT
DTSTART:20230924T150000Z
DTEND:20230924T200000Z
UID:20231030T194203Z-
DTSTAMP:20231030T194203Z
LOCATION:Mirabeau Park   
SUMMARY:Valley Fest 2023
DESCRIPTION:
END:VEVENT
END:VCALENDAR
