BEGIN:VCALENDAR
VERSION:2.0
PRODID:-//Telerik Inc.//NONSGML RadScheduler//EN
METHOD:PUBLISH
BEGIN:VEVENT
DTSTART:20230722T140000Z
DTEND:20230722T150000Z
UID:20231030T194306Z-
DTSTAMP:20231030T194306Z
LOCATION:3101 S Pines Rd Spokane Valley WA 99216
SUMMARY:Popsicles in the Park - Browns Park
DESCRIPTION:Free Family fun while you visit with CVSD School Board candidates. Fun activities for the kids and popsicles to keep cool.&nbsp;
END:VEVENT
END:VCALENDAR
