BEGIN:VCALENDAR
VERSION:2.0
PRODID:-//Telerik Inc.//NONSGML RadScheduler//EN
METHOD:PUBLISH
BEGIN:VEVENT
DTSTART:20230728T230000Z
DTEND:20230729T000000Z
UID:20231030T194305Z-
DTSTAMP:20231030T194305Z
LOCATION:11123 E Mission Ave Spokane Valley WA 99206
SUMMARY:Popsicles in the Park - Valley Mission Park
DESCRIPTION:Free family fun while you visit with CVSD School Board Candidates. Fun activities for the kids and popsicles to keep you cool.
END:VEVENT
END:VCALENDAR
