BEGIN:VCALENDAR
VERSION:2.0
PRODID:-//Telerik Inc.//NONSGML RadScheduler//EN
METHOD:PUBLISH
BEGIN:VEVENT
DTSTART:20231107T040000Z
DTEND:20231108T035900Z
UID:20231030T193708Z-
DTSTAMP:20231030T193708Z
LOCATION:   
SUMMARY:Election Day
DESCRIPTION:Make sure your ballot makes it to a ballot box!! \nThis is your opportunity to make your voice heard. \nYour vote matters!!&nbsp;\n
END:VEVENT
END:VCALENDAR
