BEGIN:VCALENDAR
VERSION:2.0
PRODID:-//Telerik Inc.//NONSGML RadScheduler//EN
METHOD:PUBLISH
BEGIN:VEVENT
DTSTART:20230425T230000Z
DTEND:20230426T000000Z
UID:20231030T194324Z-
DTSTAMP:20231030T194324Z
LOCATION:   
SUMMARY:PTO Meet and Greet
DESCRIPTION:
END:VEVENT
END:VCALENDAR
