BEGIN:VCALENDAR
VERSION:2.0
PRODID:-//Telerik Inc.//NONSGML RadScheduler//EN
METHOD:PUBLISH
BEGIN:VEVENT
DTSTART:20230805T180000Z
DTEND:20230805T190000Z
UID:20231030T194253Z-
DTSTAMP:20231030T194253Z
LOCATION:1311 N Long Rd Spokane Valley WA 99016
SUMMARY:Popsicles in the Park - Greenacres Park
DESCRIPTION:Free family fun while you visit with CVSD School Board Candidates. Fun activities for the kids and popsicles to keep you cool.
END:VEVENT
END:VCALENDAR
