BEGIN:VCALENDAR
VERSION:2.0
PRODID:-//Telerik Inc.//NONSGML RadScheduler//EN
METHOD:PUBLISH
BEGIN:VEVENT
DTSTART:20230424T140000Z
DTEND:20230424T150000Z
UID:20231030T194324Z-
DTSTAMP:20231030T194324Z
LOCATION:   
SUMMARY:PTO Meet and Greet
DESCRIPTION:Add your event description here
END:VEVENT
END:VCALENDAR
