BEGIN:VCALENDAR
VERSION:2.0
PRODID:-//Telerik Inc.//NONSGML RadScheduler//EN
METHOD:PUBLISH
BEGIN:VEVENT
DTSTART:20230703T190000Z
DTEND:20230703T210000Z
UID:20231030T194305Z-
DTSTAMP:20231030T194305Z
LOCATION:23808 E 3rd Ave Liberty Lake WA 
SUMMARY:Sign Waving for CVSD
DESCRIPTION:Sign Waving event during the Liberty Lake 4th of July Boat Parade. Look for signs directing you to the waving location. No registration required.&nbsp;
END:VEVENT
END:VCALENDAR
