BEGIN:VCALENDAR
VERSION:2.0
PRODID:-//Telerik Inc.//NONSGML RadScheduler//EN
METHOD:PUBLISH
BEGIN:VEVENT
DTSTART:20231016T220000Z
DTEND:20231016T233000Z
UID:20231030T193707Z-
DTSTAMP:20231030T193707Z
LOCATION:12420 E 32nd Ave Spokane Valley WA 99216
SUMMARY:Meet the Candidates Forum
DESCRIPTION:Meet the candidates at a forum for Central Valley School Board.&nbsp;&nbsp;\nOpen to the Public, no registration needed.&nbsp;\n
END:VEVENT
END:VCALENDAR
